BEGIN:VCALENDAR
VERSION:2.0
PRODID:-//BILING e.V. - ECPv6.15.20//NONSGML v1.0//EN
CALSCALE:GREGORIAN
METHOD:PUBLISH
X-WR-CALNAME:BILING e.V.
X-ORIGINAL-URL:https://biling-ev.de
X-WR-CALDESC:Veranstaltungen für BILING e.V.
REFRESH-INTERVAL;VALUE=DURATION:PT1H
X-Robots-Tag:noindex
X-PUBLISHED-TTL:PT1H
BEGIN:VTIMEZONE
TZID:Europe/Berlin
BEGIN:DAYLIGHT
TZOFFSETFROM:+0100
TZOFFSETTO:+0200
TZNAME:CEST
DTSTART:20250330T010000
END:DAYLIGHT
BEGIN:STANDARD
TZOFFSETFROM:+0200
TZOFFSETTO:+0100
TZNAME:CET
DTSTART:20251026T010000
END:STANDARD
BEGIN:DAYLIGHT
TZOFFSETFROM:+0100
TZOFFSETTO:+0200
TZNAME:CEST
DTSTART:20260329T010000
END:DAYLIGHT
BEGIN:STANDARD
TZOFFSETFROM:+0200
TZOFFSETTO:+0100
TZNAME:CET
DTSTART:20261025T010000
END:STANDARD
BEGIN:DAYLIGHT
TZOFFSETFROM:+0100
TZOFFSETTO:+0200
TZNAME:CEST
DTSTART:20270328T010000
END:DAYLIGHT
BEGIN:STANDARD
TZOFFSETFROM:+0200
TZOFFSETTO:+0100
TZNAME:CET
DTSTART:20271031T010000
END:STANDARD
END:VTIMEZONE
BEGIN:VEVENT
DTSTART;TZID=Europe/Berlin:20260425T110000
DTEND;TZID=Europe/Berlin:20260425T140000
DTSTAMP:20260425T014527
CREATED:20260302T193542Z
LAST-MODIFIED:20260302T193542Z
UID:137203-1777114800-1777125600@biling-ev.de
SUMMARY:3D Druck- und Holzbau Workshop
DESCRIPTION:Liebe Vereinsmitglieder und Interessierte\, \nwir führen am 25. April einen 3D Workshop im Ideenkombinat Am Arzberg in Steinbach-Hallenberg durch und würden uns freuen\, wenn ihr dabei seid. \n\nIhr könnt entweder 3D drucken\, dazu müsst ihr einen eigenen Laptop mitbringen oder ein Holzmodell bauen. Hierzu gibt es verschiedene Bastelsets. \nGebt bitte bei der Anmeldung an\, ob ihr euch für 3D Druck oder ein Holzmodell entschieden habt. Falls ihr mit Holz arbeiten wollt\, gebt bitte das Modell an. Es können maximal 10 Kinder im Bereich Holz und 10 Kinder beim 3D Workshop teilnehmen. \nDie Teilnahme ist kostenfrei. Um eine kleine Spende wird gebeten. Getränke und Mittagessen können vor Ort erworben werden. \nEs gibt eine Küche\, in der wir gemeinsam kochen können. \nWir freuen uns auf euch. \nEuer Biling Team \n  \n\n\n  \n\n\n\nVorname* \n \nNachname* \n \nE-Mail-Adresse* \n \nHandy-Nummer für Rückfragen \n \nAnzahl Erwachsene* \n \nAnzahl Kinder \n \nMitglied im BILING e.V.?* JaNein\n \n Hinweise oder Wünsche\n\n \nDer/die Teilnehmende(n) wird/werden darauf hingewiesen\, dass die zur Abwicklung der Veranstaltung erforderlichen persönlichen Daten (Vorname\, Name\, Anschrift\, Mail\, Mobilfunknummer\, besondere Anforderungen zur Barrierefreiheit) vom Biling e.V. auf elektronischen Datenträgern gespeichert werden. Der/die Teilnehmende stimmt der Erhebung\, Verarbeitung und Nutzung der personenbezogenen Daten beim Veranstalter Biling e.V. zur Abwicklung der Veranstaltung ausdrücklich zu. Die gespeicherten persönlichen Daten werden vom Biling e.V. vertraulich behandelt. Die Erhebung\, Verarbeitung und Nutzung der personenbezogenen Daten des/der Teilnehmenden erfolgt unter Beachtung der DS-GVO\, des Bundesdatenschutzgesetzes (BDSG) und des Telemediengesetzes (TMG). Dem/der Teilnehmenden steht das Recht zu\, die Einwilligung jederzeit mit Wirkung für die Zukunft zu widerrufen. Der Biling e.V. ist in diesem Fall zur sofortigen Löschung der persönlichen Daten des/der Teilnehmenden verpflichtet. Ja\, ich stimme der Verarbeitung meiner personenbezogenen Daten zu.\n \n* Pflichtfelder\n\n \n\n Δ
URL:https://biling-ev.de/veranstaltung/3d-druck-und-holzbau-workshop/
LOCATION:IKA – Ideen-Kombinat am Arzberg e.V.\, Rotteroder Straße 48\, Steinbach-Hallenberg\, Thüringen\, 98587
CATEGORIES:Information & Bildung
ATTACH;FMTTYPE=image/jpeg:https://biling-ev.de/wp-content/uploads/2026/02/Modellbau-Dolmetschen.jpg
END:VEVENT
END:VCALENDAR