BEGIN:VCALENDAR
VERSION:2.0
PRODID:-//BILING e.V. - ECPv6.15.20//NONSGML v1.0//EN
CALSCALE:GREGORIAN
METHOD:PUBLISH
X-ORIGINAL-URL:https://biling-ev.de
X-WR-CALDESC:Veranstaltungen für BILING e.V.
REFRESH-INTERVAL;VALUE=DURATION:PT1H
X-Robots-Tag:noindex
X-PUBLISHED-TTL:PT1H
BEGIN:VTIMEZONE
TZID:Europe/Berlin
BEGIN:DAYLIGHT
TZOFFSETFROM:+0100
TZOFFSETTO:+0200
TZNAME:CEST
DTSTART:20230326T010000
END:DAYLIGHT
BEGIN:STANDARD
TZOFFSETFROM:+0200
TZOFFSETTO:+0100
TZNAME:CET
DTSTART:20231029T010000
END:STANDARD
BEGIN:DAYLIGHT
TZOFFSETFROM:+0100
TZOFFSETTO:+0200
TZNAME:CEST
DTSTART:20240331T010000
END:DAYLIGHT
BEGIN:STANDARD
TZOFFSETFROM:+0200
TZOFFSETTO:+0100
TZNAME:CET
DTSTART:20241027T010000
END:STANDARD
BEGIN:DAYLIGHT
TZOFFSETFROM:+0100
TZOFFSETTO:+0200
TZNAME:CEST
DTSTART:20250330T010000
END:DAYLIGHT
BEGIN:STANDARD
TZOFFSETFROM:+0200
TZOFFSETTO:+0100
TZNAME:CET
DTSTART:20251026T010000
END:STANDARD
END:VTIMEZONE
BEGIN:VEVENT
DTSTART;TZID=Europe/Berlin:20240128T100000
DTEND;TZID=Europe/Berlin:20240128T113000
DTSTAMP:20260423T175701
CREATED:20240114T233850Z
LAST-MODIFIED:20240114T234217Z
UID:43587-1706436000-1706441400@biling-ev.de
SUMMARY:Bilingtreffen im MYJUMP
DESCRIPTION:Liebe Bilingfreunde\, \nam Sonntag\, den 28.01.24 findet unser erstes Treffen im neuen Jahr im „MYJUMP“ Erfurt statt. \nFür alle Vereinskinder übernimmt Biling 10 € des Eintrittspreises. \n  \nZeit: Wir treffen uns 10 Uhr vor dem Eingang. 10:30 Uhr beginnt die Jump-Zeit bis 11:30 Uhr. \nOrt: An der Lache 11\, 99086 Erfurt \nPreis: 15 €/Person \n  \nFür das Springen braucht ihr spezielle Trampolinsocken mit großem Gummiprofil. Ihr könnt diese für 3\,50 € vor Ort kaufen oder eure eigene\, vorher erworbenen\, mitbringen. \nKinder unter 7 Jahre müssen mit einem Erwachsenen hüpfen. Dieser zahlt nur\, wenn er selbst auch springen möchte. \n  \nBitte meldet euch bis spätestens 27.01.2024 über folgendes Formular an: \n\n\n  \n\n\n\nVorname* \n \nNachname* \n \nE-Mail-Adresse* \n \nAnzahl Erwachsene* \n \nAnzahl Kinder* \n \n Hinweise oder Wünsche\n\n \nJa\, ich stimme der Verarbeitung meiner personenbezogenen Daten gemäß unserer Datenschutzerklärung zu.\nDatenschutzerklärung\n \n* Pflichtfelder\n\n \n\n Δ \n\n\n\n  \nWir freuen uns euch zu sehen!
URL:https://biling-ev.de/veranstaltung/bilingtreffen-im-my-jump/
LOCATION:Erfurt MyJump\, An der Lache 11\, Erfurt\, 99086\, Deutschland
CATEGORIES:BILING-Treffen,Sport & Freizeit
ATTACH;FMTTYPE=image/jpeg:https://biling-ev.de/wp-content/uploads/2024/01/Jumppark.jpg
ORGANIZER;CN="BILING E.V.":MAILTO:info@biling-ev.de
END:VEVENT
END:VCALENDAR